BEGIN:VCALENDAR
VERSION:2.0
PRODID:-//Masterclass Smile to Move V4 - ECPv6.15.13//NONSGML v1.0//EN
CALSCALE:GREGORIAN
METHOD:PUBLISH
X-WR-CALNAME:Masterclass Smile to Move V4
X-ORIGINAL-URL:https://pcm4.smiletomove.it
X-WR-CALDESC:Eventi per Masterclass Smile to Move V4
REFRESH-INTERVAL;VALUE=DURATION:PT1H
X-Robots-Tag:noindex
X-PUBLISHED-TTL:PT1H
BEGIN:VTIMEZONE
TZID:Europe/Paris
BEGIN:DAYLIGHT
TZOFFSETFROM:+0100
TZOFFSETTO:+0200
TZNAME:CEST
DTSTART:20250330T010000
END:DAYLIGHT
BEGIN:STANDARD
TZOFFSETFROM:+0200
TZOFFSETTO:+0100
TZNAME:CET
DTSTART:20251026T010000
END:STANDARD
BEGIN:DAYLIGHT
TZOFFSETFROM:+0100
TZOFFSETTO:+0200
TZNAME:CEST
DTSTART:20260329T010000
END:DAYLIGHT
BEGIN:STANDARD
TZOFFSETFROM:+0200
TZOFFSETTO:+0100
TZNAME:CET
DTSTART:20261025T010000
END:STANDARD
BEGIN:DAYLIGHT
TZOFFSETFROM:+0100
TZOFFSETTO:+0200
TZNAME:CEST
DTSTART:20270328T010000
END:DAYLIGHT
BEGIN:STANDARD
TZOFFSETFROM:+0200
TZOFFSETTO:+0100
TZNAME:CET
DTSTART:20271031T010000
END:STANDARD
END:VTIMEZONE
BEGIN:VEVENT
DTSTART;TZID=Europe/Paris:20260522T090000
DTEND;TZID=Europe/Paris:20260522T130000
DTSTAMP:20260420T030739
CREATED:20250826T153053Z
LAST-MODIFIED:20260114T094910Z
UID:905-1779440400-1779454800@pcm4.smiletomove.it
SUMMARY:People Communication Master #08 Internal event management
DESCRIPTION:Obiettivi e progettazione di eventi interni. Organizzazione e comunicazione prima\, durante e dopo l’evento. Monitoraggio dei risultati. \nCon Valeria Farina \nhttps://us06web.zoom.us/j/89436376181
URL:https://pcm4.smiletomove.it/index.php/event/people-communication-master-10-internal-event-management/
CATEGORIES:People Communication Master
END:VEVENT
BEGIN:VEVENT
DTSTART;TZID=Europe/Paris:20260508T090000
DTEND;TZID=Europe/Paris:20260508T130000
DTSTAMP:20260420T030739
CREATED:20250826T152625Z
LAST-MODIFIED:20260114T094855Z
UID:899-1778230800-1778245200@pcm4.smiletomove.it
SUMMARY:People Communication Master #07 L’ecosistema di comunicazione interna
DESCRIPTION:Canali social e canali proprietari\, KPI e piano editoriale\, creazione del team\, monitoraggio dei risultati. \nCon Luca Busetto e Elena Longo \nhttps://us06web.zoom.us/j/89443649051
URL:https://pcm4.smiletomove.it/index.php/event/people-communication-master-07-lecosistema-di-comunicazione-interna/
CATEGORIES:People Communication Master
END:VEVENT
BEGIN:VEVENT
DTSTART;TZID=Europe/Paris:20260422T090000
DTEND;TZID=Europe/Paris:20260422T130000
DTSTAMP:20260420T030739
CREATED:20250826T152309Z
LAST-MODIFIED:20260114T094824Z
UID:897-1776848400-1776862800@pcm4.smiletomove.it
SUMMARY:People Communication Master #06 Creare presentazioni efficaci
DESCRIPTION:Come creare presentazioni efficaci\, in linea con la Corporate Brand Identity. Per i social\, gli e-learning\, le slide. \nCon Slide Queen \nhttps://us06web.zoom.us/j/83463147190?pwd=Yw3VmuD1sSSTIK8iLW58mWFeLwtbUK.1
URL:https://pcm4.smiletomove.it/index.php/event/people-communication-master-06-creare-presentazioni-efficaci/
CATEGORIES:People Communication Master
END:VEVENT
BEGIN:VEVENT
DTSTART;TZID=Europe/Paris:20260410T090000
DTEND;TZID=Europe/Paris:20260410T130000
DTSTAMP:20260420T030739
CREATED:20250826T151629Z
LAST-MODIFIED:20260114T094746Z
UID:895-1775811600-1775826000@pcm4.smiletomove.it
SUMMARY:People Communication Master #05 Video making fai da te
DESCRIPTION:Come realizzare dei video efficaci per i social\, senza essere video maker e con budget limitati. Dalla scelta del format al montaggio. \nCon Alessia Ronco \nhttps://us06web.zoom.us/j/84669186359
URL:https://pcm4.smiletomove.it/index.php/event/people-communication-master-05-video-making-fai-da-te/
CATEGORIES:People Communication Master
END:VEVENT
BEGIN:VEVENT
DTSTART;TZID=Europe/Paris:20260320T090000
DTEND;TZID=Europe/Paris:20260320T130000
DTSTAMP:20260420T030739
CREATED:20250826T151345Z
LAST-MODIFIED:20260114T094707Z
UID:893-1773997200-1774011600@pcm4.smiletomove.it
SUMMARY:People Communication Master #04 Graphic design per non grafici
DESCRIPTION:Come auto-produrre grafiche semplici con Canva\, in linea con la Corporate Brand Identity\, e utilizzare immagini più efficaci. \nCon Eugenia Brini \nhttps://us06web.zoom.us/j/84689783321
URL:https://pcm4.smiletomove.it/index.php/event/people-communication-master-04-graphic-design-per-non-grafici/
CATEGORIES:People Communication Master
END:VEVENT
BEGIN:VEVENT
DTSTART;TZID=Europe/Paris:20260306T090000
DTEND;TZID=Europe/Paris:20260306T130000
DTSTAMP:20260420T030739
CREATED:20250826T151230Z
LAST-MODIFIED:20260114T094644Z
UID:891-1772787600-1772802000@pcm4.smiletomove.it
SUMMARY:People Communication Master #03 Scrivere come parla l’azienda
DESCRIPTION:Usare il tono di voce dell’azienda in ogni circostanza. Copy per la carta stampata\, per il web\, per i social\, per le e-mail. \nCon Marianna Martino \nhttps://us06web.zoom.us/j/88180510737
URL:https://pcm4.smiletomove.it/index.php/event/people-communication-master-03-scrivere-come-parla-lazienda/
CATEGORIES:People Communication Master
END:VEVENT
BEGIN:VEVENT
DTSTART;TZID=Europe/Paris:20260227T090000
DTEND;TZID=Europe/Paris:20260227T130000
DTSTAMP:20260420T030739
CREATED:20250826T150929Z
LAST-MODIFIED:20260114T094621Z
UID:889-1772182800-1772197200@pcm4.smiletomove.it
SUMMARY:People Communication Master #02 Il Piano Editoriale
DESCRIPTION:Dalla cultura aziendale a una storia che ci appartiene e che si evolve nel tempo. E il social content Marketing dinamico che fa respirare lo storytelling aziendale al ritmo delle sue persone \nLezione e Workshop Con Mafe De Baggis \nhttps://us06web.zoom.us/j/88499086572
URL:https://pcm4.smiletomove.it/index.php/event/people-communication-master-02-corporate-storytelling-e-piano-editoriale/
CATEGORIES:People Communication Master
END:VEVENT
BEGIN:VEVENT
DTSTART;TZID=Europe/Paris:20260220T090000
DTEND;TZID=Europe/Paris:20260220T120000
DTSTAMP:20260420T030739
CREATED:20250826T150740Z
LAST-MODIFIED:20260114T094558Z
UID:886-1771578000-1771588800@pcm4.smiletomove.it
SUMMARY:People Communication Master #01 L'employee Journey
DESCRIPTION:Persone al centro: dalla mappatura dell’employee journey alla scelta dei touchpoint. \nCon Marianna Marcuzzo e Veronica Carniello \nhttps://us06web.zoom.us/j/83208156262
URL:https://pcm4.smiletomove.it/index.php/event/people-communication-master-01-lemployee-journey/
CATEGORIES:People Communication Master
END:VEVENT
BEGIN:VEVENT
DTSTART;VALUE=DATE:20260213
DTEND;VALUE=DATE:20260214
DTSTAMP:20260420T030739
CREATED:20251223T083355Z
LAST-MODIFIED:20251223T083547Z
UID:1067-1770940800-1771027199@pcm4.smiletomove.it
SUMMARY:People Communication Master #00 Corporate Storytelling
DESCRIPTION:Lezione on demand con Mafe De Baggis
URL:https://pcm4.smiletomove.it/index.php/event/people-communication-master-00-corporate-storytelling/
CATEGORIES:People Communication Master
END:VEVENT
END:VCALENDAR